BEGIN:VCALENDAR
VERSION:2.0
PRODID:-//Grape Therapy - ECPv4.6.10.1//NONSGML v1.0//EN
CALSCALE:GREGORIAN
METHOD:PUBLISH
X-WR-CALNAME:Grape Therapy
X-ORIGINAL-URL:https://grapetherapy.com.au
X-WR-CALDESC:Events for Grape Therapy
BEGIN:VEVENT
DTSTART;TZID=UTC+10:20190228T180000
DTEND;TZID=UTC+10:20190228T193000
DTSTAMP:20190226T185332
CREATED:20190205T135532Z
LAST-MODIFIED:20190205T135532Z
UID:1231-1551376800-1551382200@grapetherapy.com.au
SUMMARY:A Taste of Jerez - Andalusian Sherry Tasting
DESCRIPTION:In a relatively small area\, between the three towns of Jerez de la Frontera\, Puerto de Santa Maria\, and San Lucar de Barrameda\, lays the secret of one of Spain most valuable crown jewels… Sherry. \nJoin us on Thursday 28th February for a night dedicated to this wonderful (and often misunderstood) Spanish drink: from Fino to Pedro Ximenez \, including Manzanilla and Oloroso\, we’ll be telling the tales of this incredible fortified wine. \nGet your tickets now\, this is an exclusive event which will sell out! \n
URL:https://grapetherapy.com.au/event/a-taste-of-jerez-andalusian-sherry-tasting/
LOCATION:Grape Therapy\, Adelaide St & Macrossan St\, Brisbane\, Queensland\, 4000\, Australia
ATTACH;FMTTYPE=image/jpeg:https://grapetherapy.com.au/wp-content/uploads/2019/02/Sherry.jpg
END:VEVENT
END:VCALENDAR