BEGIN:VCALENDAR
VERSION:2.0
PRODID:-//Grape Therapy - ECPv4.6.10.1//NONSGML v1.0//EN
CALSCALE:GREGORIAN
METHOD:PUBLISH
X-WR-CALNAME:Grape Therapy
X-ORIGINAL-URL:https://grapetherapy.com.au
X-WR-CALDESC:Events for Grape Therapy
BEGIN:VEVENT
DTSTART;TZID=UTC+10:20190314T180000
DTEND;TZID=UTC+10:20190314T193000
DTSTAMP:20190226T185406
CREATED:20190205T134105Z
LAST-MODIFIED:20190205T134105Z
UID:1227-1552586400-1552591800@grapetherapy.com.au
SUMMARY:Discovering Trappist Beer - Chimay Grand Reserve
DESCRIPTION:If the words “top fermented”\, “unpasteurised” and “refermented in bottle” sound familiar\, then you are a true Beer connoisseur… And if this terms don’t sound familiar at all\, then all the more reasons why you should join us on Thursday March 14th for a wonderful journey through the magical (almost mystical) world of Belgian Trappist beer. \nMade by monks in Trappist monastery and brought to you by your favorite drinking den\, this beer-centered event you won’t want to miss out on! \n*Limited tickets available. Paired Cheese platters available to purchase on the evening. \n
URL:https://grapetherapy.com.au/event/discovering-trappist-beer-chimay-grand-reserve/
LOCATION:Grape Therapy\, Adelaide St & Macrossan St\, Brisbane\, Queensland\, 4000\, Australia
ATTACH;FMTTYPE=image/jpeg:https://grapetherapy.com.au/wp-content/uploads/2019/02/Trappist-Beer-tasting-e1549374017636.jpg
END:VEVENT
END:VCALENDAR