BEGIN:VCALENDAR
VERSION:2.0
PRODID:-//Grape Therapy - ECPv4.9.9//NONSGML v1.0//EN
CALSCALE:GREGORIAN
METHOD:PUBLISH
X-WR-CALNAME:Grape Therapy
X-ORIGINAL-URL:https://grapetherapy.com.au
X-WR-CALDESC:Events for Grape Therapy
BEGIN:VTIMEZONE
TZID:Europe/Paris
BEGIN:DAYLIGHT
TZOFFSETFROM:+0100
TZOFFSETTO:+0200
TZNAME:CEST
DTSTART:20180325T010000
END:DAYLIGHT
BEGIN:STANDARD
TZOFFSETFROM:+0200
TZOFFSETTO:+0100
TZNAME:CET
DTSTART:20181028T010000
END:STANDARD
END:VTIMEZONE
BEGIN:VEVENT
DTSTART;TZID=Europe/Paris:20181109T180000
DTEND;TZID=Europe/Paris:20181109T203000
DTSTAMP:20200229T024749
CREATED:20181020T080434Z
LAST-MODIFIED:20181107T084706Z
UID:1063-1541786400-1541795400@grapetherapy.com.au
SUMMARY:Vegan Cheese and Wine Fest
DESCRIPTION:Wine and Cheese… Thoroughly enjoyed by many\, but what about our Vegan friends? \nHere at Grape Therapy we champion catering for everyone\, so here is a specifically designed vegan friendly event! \nShare the love and get your tickets for a night of cruelty-free goodness: all wines are organic and vegan\, and cheeses are just as good as their lactose counterparts (believe us!). \nCheers to goodness\, in all their shapes and forms! \n
URL:https://grapetherapy.com.au/event/vegan-cheese-and-wine-fest/
LOCATION:Grape Therapy\, Grape Therapy\, Adelaide St & Macrossan St\, Brisbane\, Queensland\, 4000\, Australia
ATTACH;FMTTYPE=image/jpeg:https://grapetherapy.com.au/wp-content/uploads/2018/10/Vegan-Wine-Cheese-event-witht-the-Fest-not-overlapping-e1539957596216.jpg
END:VEVENT
END:VCALENDAR